BEGIN:VCALENDAR
VERSION:2.0
PRODID:gruene-wuerzburg.de
METHOD:PUBLISH
BEGIN:VTIMEZONE
TZID:Europe/Berlin
X-LIC-LOCATION:Europe/Berlin
BEGIN:DAYLIGHT
TZOFFSETFROM:+0100
TZOFFSETTO:+0200
TZNAME:CEST
DTSTART:19700329T020000
RRULE:FREQ=YEARLY;INTERVAL=1;BYDAY=-1SU;BYMONTH=3
END:DAYLIGHT
BEGIN:STANDARD
TZOFFSETFROM:+0200
TZOFFSETTO:+0100
TZNAME:CET
DTSTART:19701025T030000
RRULE:FREQ=YEARLY;INTERVAL=1;BYDAY=-1SU;BYMONTH=10
END:STANDARD
END:VTIMEZONE
BEGIN:VEVENT
UID:727565351817dc4b6fe6b0d6777ef2d2@gruene-wuerzburg.de
URL;VALUE=URI:https://gruene-wuerzburg.de/termine/bundesdelegiertenkonfer
 enz-bdk-in-wiesbaden/
LOCATION:Wiesbaden
SUMMARY:Bundesdelegiertenkonferenz (BDK) in Wiesbaden
DESCRIPTION;ALTREP="data:text/html,%0A%3Cp%3EDer%20gr%C3%B6%C3%9Fte%20Par
 teitag%20der%20Gr%C3%BCnen%20%E2%80%93%20die%20Bundesdelegiertenversammlu
 ng%2C%20findet%202024%20in%20Wiesbaden%20statt.%20Infos%20folgen%20sobald
 %20%C3%B6ffentlich.%3C%2Fp%3E%0A":Der größte Parteitag der Grünen – 
 die Bundesdelegiertenversammlung\, findet 2024 in Wiesbaden statt. Infos 
 folgen sobald öffentlich.
CLASS:PUBLIC
DTSTART;TZID=Europe/Berlin:20241115
DTEND;TZID=Europe/Berlin:20241117
DTSTAMP:20260419T153658
END:VEVENT
END:VCALENDAR