BEGIN:VCALENDAR
VERSION:2.0
PRODID:gruene-wuerzburg.de
METHOD:PUBLISH
BEGIN:VTIMEZONE
TZID:Europe/Berlin
X-LIC-LOCATION:Europe/Berlin
BEGIN:DAYLIGHT
TZOFFSETFROM:+0100
TZOFFSETTO:+0200
TZNAME:CEST
DTSTART:19700329T020000
RRULE:FREQ=YEARLY;INTERVAL=1;BYDAY=-1SU;BYMONTH=3
END:DAYLIGHT
BEGIN:STANDARD
TZOFFSETFROM:+0200
TZOFFSETTO:+0100
TZNAME:CET
DTSTART:19701025T030000
RRULE:FREQ=YEARLY;INTERVAL=1;BYDAY=-1SU;BYMONTH=10
END:STANDARD
END:VTIMEZONE
BEGIN:VEVENT
UID:920a1e2c5547518d6ef79aa92814b61e@gruene-wuerzburg.de
URL;VALUE=URI:https://gruene-wuerzburg.de/termine/kinderfest/
LOCATION:
SUMMARY:Kinderfest
DESCRIPTION;ALTREP="data:text/html,%3Cp%3EDas%20W%C3%BCrzburger%20Kinderf
 est%20ist%20jedes%20Jahr%20ein%20buntes%20Highlight%20f%C3%BCr%20Familien
 %20in%20der%20Stadt%3A%20Zahlreiche%20Vereine%2C%20Initiativen%20und%20Or
 ganisationen%20laden%20mit%20Mitmachaktionen%2C%20Spielen%20und%20kreativ
 en%20Angeboten%20zum%20Entdecken%2C%20Ausprobieren%20und%20Spa%C3%9Fhaben
 %20ein.%3Cbr%20%2F%3E%0AAuch%20wir%2C%20die%20Gr%C3%BCnen%20W%C3%BCrzburg
 %2C%20sind%20am%203.%20Mai%20mit%20dabei%21%20Ihr%20findet%20uns%20am%20u
 nteren%20Markt%20an%20Standnummer%2042.%20Bei%20uns%20k%C3%B6nnt%20ihr%20
 selbst%20aktiv%20werden%3A%20Bastelt%20mit%20uns%20Seed%20Bombs%20und%20s
 etzt%20ein%20kleines%20Zeichen%20f%C3%BCr%20mehr%20Gr%C3%BCn%20in%20der%2
 0Stadt%20oder%20gestaltet%20eure%20eigenen%20Buttons%20an%20unserer%20But
 tonmaschine.%20Nat%C3%BCrlich%20gibt%20es%20auch%20Raum%20f%C3%BCr%20Gesp
 r%C3%A4che%20und%20ein%20entspanntes%20Kennenlernen%20%E2%80%93%20f%C3%BC
 r%20Gro%C3%9F%20und%20Klein.%3Cbr%20%2F%3E%0AKommt%20vorbei%2C%20wir%20fr
 euen%20uns%20auf%20euch%21%3C%2Fp%3E":Das Würzburger Kinderfest ist jede
 s Jahr ein buntes Highlight für Familien in der Stadt: Zahlreiche Verein
 e\, Initiativen und Organisationen laden mit Mitmachaktionen\, Spielen un
 d kreativen Angeboten zum Entdecken\, Ausprobieren und Spaßhaben ein.\n\
 nAuch wir\, die Grünen Würzburg\, sind am 3. Mai mit dabei! Ihr findet 
 uns am unteren Markt an Standnummer 42. Bei uns könnt ihr selbst aktiv w
 erden: Bastelt mit uns Seed Bombs und setzt ein kleines Zeichen für mehr
  Grün in der Stadt oder gestaltet eure eigenen Buttons an unserer Button
 maschine. Natürlich gibt es auch Raum für Gespräche und ein entspannte
 s Kennenlernen – für Groß und Klein.\n\nKommt vorbei\, wir freuen uns
  auf euch!
CLASS:PUBLIC
DTSTART;TZID=Europe/Berlin:20260503T110000
DTEND;TZID=Europe/Berlin:20260503T180000
DTSTAMP:20260425T142626
END:VEVENT
END:VCALENDAR